BEGIN:VCALENDAR
VERSION:2.0
PRODID:-//CVJM Katzenfurt - ECPv6.15.20//NONSGML v1.0//EN
CALSCALE:GREGORIAN
METHOD:PUBLISH
X-ORIGINAL-URL:https://cvjm-katzenfurt.de
X-WR-CALDESC:Veranstaltungen für CVJM Katzenfurt
REFRESH-INTERVAL;VALUE=DURATION:PT1H
X-Robots-Tag:noindex
X-PUBLISHED-TTL:PT1H
BEGIN:VTIMEZONE
TZID:Europe/Berlin
BEGIN:DAYLIGHT
TZOFFSETFROM:+0100
TZOFFSETTO:+0200
TZNAME:CEST
DTSTART:20250330T010000
END:DAYLIGHT
BEGIN:STANDARD
TZOFFSETFROM:+0200
TZOFFSETTO:+0100
TZNAME:CET
DTSTART:20251026T010000
END:STANDARD
BEGIN:DAYLIGHT
TZOFFSETFROM:+0100
TZOFFSETTO:+0200
TZNAME:CEST
DTSTART:20260329T010000
END:DAYLIGHT
BEGIN:STANDARD
TZOFFSETFROM:+0200
TZOFFSETTO:+0100
TZNAME:CET
DTSTART:20261025T010000
END:STANDARD
BEGIN:DAYLIGHT
TZOFFSETFROM:+0100
TZOFFSETTO:+0200
TZNAME:CEST
DTSTART:20270328T010000
END:DAYLIGHT
BEGIN:STANDARD
TZOFFSETFROM:+0200
TZOFFSETTO:+0100
TZNAME:CET
DTSTART:20271031T010000
END:STANDARD
END:VTIMEZONE
BEGIN:VEVENT
DTSTART;TZID=Europe/Berlin:20260412T103000
DTEND;TZID=Europe/Berlin:20260412T113000
DTSTAMP:20260425T195446
CREATED:20260408T194546Z
LAST-MODIFIED:20260408T194546Z
UID:224338-1775989800-1775993400@cvjm-katzenfurt.de
SUMMARY:Kindergottesdienst
DESCRIPTION:
URL:https://cvjm-katzenfurt.de/event/kindergottesdienst/
CATEGORIES:KiGo
ATTACH;FMTTYPE=image/png:https://cvjm-katzenfurt.de/wp-content/uploads/2026/03/Hintergrund-KiGO-Test.png
END:VEVENT
BEGIN:VEVENT
DTSTART;TZID=Europe/Berlin:20260409T200000
DTEND;TZID=Europe/Berlin:20260409T220000
DTSTAMP:20260425T195446
CREATED:20260402T221449Z
LAST-MODIFIED:20260402T221449Z
UID:224279-1775764800-1775772000@cvjm-katzenfurt.de
SUMMARY:Vorstandssitzung
DESCRIPTION:
URL:https://cvjm-katzenfurt.de/event/vorstandssitzung/
ATTACH;FMTTYPE=image/webp:https://cvjm-katzenfurt.de/wp-content/uploads/2026/03/csm_Posaunenchor_918f71eefa.webp
END:VEVENT
END:VCALENDAR